BEGIN:VCALENDAR
VERSION:2.0
PRODID:-//ChamberMaster//Event Calendar 2.0//EN
METHOD:PUBLISH
X-PUBLISHED-TTL:P3D
REFRESH-INTERVAL:P3D
CALSCALE:GREGORIAN
BEGIN:VEVENT
DTSTART:20230730T200000Z
DTEND:20230730T230000Z
X-MICROSOFT-CDO-ALLDAYEVENT:FALSE
SUMMARY:Backpack Giveaway
DESCRIPTION:TCC\, the region's Verizon retailer is giving away back packs full of supplies for students this Sunday\, July 30th.\n\n\n\nFirst come first serve basis which starts at 1:00pm.  In addition the back packs\, supplies will be included. There are two locations in Grants Pass\n\n	142 NE Terry Lane\n	498 Union Ave.
X-ALT-DESC;FMTTYPE=text/html:<span style="font-size:20px\;">TCC\, the region&#39\;s Verizon retailer is giving away back packs full of supplies for students this Sunday\, July 30th.<br />\n<br />\nFirst come first serve basis which starts at 1:00pm.&nbsp\; In addition the back packs\, supplies will be included. There are two locations in Grants Pass</span>\n<ul>\n	<li><span style="font-size:20px\;">142 NE Terry Lane</span></li>\n	<li><span style="font-size:20px\;">498 Union Ave.</span></li>\n</ul>\n
LOCATION:Verizon TCC 498 Union 142 NE Terry Ln
UID:e.1818.44798
SEQUENCE:3
DTSTAMP:20260423T045628Z
URL:http://grantspasschamber.chambermaster.com/events/details/backpack-giveaway-44798
END:VEVENT

END:VCALENDAR
